BEGIN:VCALENDAR
VERSION:2.0
PRODID:-//hacksw/handcal//NONSGML v1.0//EN
CALSCALE:GREGORIAN
BEGIN:VEVENT
LOCATION:Schloss Herrenhausen\, Hannover
DESCRIPTION:Zur Projektpräsentation\, Diskussion und Vernetzung treffen sich die Geförderten der Kooperationsprojekte aus "Transformationswissen über Demokratien im Wandel" vom 1. bis 3. Dezember 2025 in Hannover. Teilnahme nur auf Einladung möglich.

DTSTART:20251201T120000
DTEND:20251203T140000
SUMMARY:"Transformationswissen über Demokratien im Wandel" - Projektpräsentation Kooperationsprojekte
URL;VALUE=URI:https://www.volkswagenstiftung.de/de/veranstaltungen/transformationswissen-ueber-demokratien-im-wandel-projektpraesentation-kooperationsprojekte
DTSTAMP:20260420T154435Z
UID:69e62dc33973a
END:VEVENT
END:VCALENDAR