BEGIN:VCALENDAR
VERSION:2.0
PRODID:-//hacksw/handcal//NONSGML v1.0//EN
CALSCALE:GREGORIAN
BEGIN:VEVENT
LOCATION:Herrenhausen Palace\, Hannover
DESCRIPTION:The Keystone Symposium from June 24 to 26\, 2025 will shed light on the growing risks of climate-related infectious diseases and bring together leading scientists from the fields of biomedicine\, epidemiology\, climate research and public health. Together\, they will discuss the latest findings on disease spread\, prevention and policy solutions to develop effective strategies against this global health threat.

DTSTART:20250624T090000
DTEND:20250626T190000
SUMMARY:Climate Change & Infectious Disease Threats (Keystone Symposia)
URL;VALUE=URI:https://www.volkswagenstiftung.de/de/veranstaltungen/climate-change-infectious-disease-threats-keystone-symposia
DTSTAMP:20260422T235802Z
UID:69e9446a88af3
END:VEVENT
END:VCALENDAR