BEGIN:VCALENDAR
VERSION:2.0
PRODID:-//hacksw/handcal//NONSGML v1.0//EN
CALSCALE:GREGORIAN
BEGIN:VEVENT
LOCATION:Xplanatorium Herrenhausen\, Hannover
DESCRIPTION:Das jährliche Treffen der Geförderten in den personenbezogenen Initiativen der VolkswagenStiftung findet am 11. und 12. September 2025 im Xplanatorium Herrenhausen in Hannover statt.

DTSTART:20250911T103000
DTEND:20250912T133000
SUMMARY:Gefördertentreffen 2025
URL;VALUE=URI:https://www.volkswagenstiftung.de/de/veranstaltungen/gefoerdertentreffen-2025
DTSTAMP:20260425T205058Z
UID:69ed0d124e6ae
END:VEVENT
END:VCALENDAR