BEGIN:VCALENDAR
VERSION:2.0
PRODID:-//hacksw/handcal//NONSGML v1.0//EN
CALSCALE:GREGORIAN
BEGIN:VEVENT
LOCATION:Xplanatorium Herrenhausen\, Hannover
DESCRIPTION:With this symposium in Hanover\, the Foundation offers scientists of the funding initiative “Artificial Intelligence and the Society of the Future” the opportunity to present their projects\, network and discuss new perspectives and fresh solutions.&nbsp\;

DTSTART:20250423T093000
DTEND:20250424T170000
SUMMARY:Final Symposium "AI and the society of the future"
URL;VALUE=URI:https://www.volkswagenstiftung.de/de/veranstaltungen/final-symposium-ai-and-society-future
DTSTAMP:20260421T125745Z
UID:69e7582985cb1
END:VEVENT
END:VCALENDAR