BEGIN:VCALENDAR
VERSION:2.0
PRODID:-//hacksw/handcal//NONSGML v1.0//EN
CALSCALE:GREGORIAN
BEGIN:VEVENT
LOCATION:Xplanatorium Herrenhausen\, Hannover
DESCRIPTION:Wissenschaftliche Zusammenarbeit sollte frei von äußeren Einflüssen gelebt werden können. Doch wie kann das angesichts von Konflikten und Kriegen gelingen? Über Anspruch\, Wirklichkeit und mögliche Lösungen sprechen Expert:innen beim Forschungs- und hochschulpolitisches Werkstattgespräch vom 8. bis 9. März in Hannover.

DTSTART:20240308T140000
DTEND:20240309T150000
SUMMARY:Rote Linien für die Wissenschaft? Internationale Wissenschaftsbeziehungen zwischen Offenheit und Sicherheit
URL;VALUE=URI:https://www.volkswagenstiftung.de/de/veranstaltungen/rote-linien-fuer-die-wissenschaft-internationale-wissenschaftsbeziehungen-zwischen-offenheit-und-sicherheit
DTSTAMP:20260419T193724Z
UID:69e512d442dd5
END:VEVENT
END:VCALENDAR