BEGIN:VCALENDAR
VERSION:2.0
PRODID:-//hacksw/handcal//NONSGML v1.0//EN
CALSCALE:GREGORIAN
BEGIN:VEVENT
LOCATION:Xplanatorium Herrenhausen\, Hannover
DESCRIPTION:Lange vor Corona wurde im Kinofilm „Contagion“ durchgespielt\, wie eine weltweite Seuche die Menschheit in Angst und Schrecken versetzt. Wie viel Wirklichkeit steckt in dieser Fiktion? Darüber diskutieren Expert:innen im Anschluss an den Film am 5. April 2024 in Hannover. 

DTSTART:20240405T180000
DTEND:20240405T210000
SUMMARY:Ansteckend - gestern Hollywood\, heute die ganze Welt
URL;VALUE=URI:https://www.volkswagenstiftung.de/de/veranstaltungen/ansteckend-gestern-hollywood-heute-die-ganze-welt
DTSTAMP:20260423T025212Z
UID:69e96d3c4b14b
END:VEVENT
END:VCALENDAR