BEGIN:VCALENDAR
VERSION:2.0
PRODID:-//hacksw/handcal//NONSGML v1.0//EN
CALSCALE:GREGORIAN
BEGIN:VEVENT
LOCATION:Xplanatorium Herrenhausen\, Hannover
DESCRIPTION:Mit diesem Workshop in Hannover bietet die Stiftung einen Raum für die Vernetzung von Wissenschaftler:innen und (zivil)gesellschaftlichen Akteur:innen sowie für die Entwicklung erster Ideen für gemeinsame transdisziplinäre Forschung in Vorbereitung für eine Antragstellung im Rahmen der Förderinitiative "Transformationswissen über Demokratien im Wandel - transdisziplinäre Perspektiven".&nbsp\;

DTSTART:20240226T120000
DTEND:20240228T133000
SUMMARY:Vernetzungsworkshop "Transformationswissen über Demokratien im Wandel"
URL;VALUE=URI:https://www.volkswagenstiftung.de/de/veranstaltungen/vernetzungsworkshop-transformationswissen-ueber-demokratien-im-wandel
DTSTAMP:20260419T175038Z
UID:69e4f9ce3435e
END:VEVENT
END:VCALENDAR